BEGIN:VCALENDAR
VERSION:2.0
PRODID:-//Manutenção.net - ECPv6.15.16//NONSGML v1.0//EN
CALSCALE:GREGORIAN
METHOD:PUBLISH
X-WR-CALNAME:Manutenção.net
X-ORIGINAL-URL:https://manutencao.net
X-WR-CALDESC:Eventos para Manutenção.net
REFRESH-INTERVAL;VALUE=DURATION:PT1H
X-Robots-Tag:noindex
X-PUBLISHED-TTL:PT1H
BEGIN:VTIMEZONE
TZID:America/Sao_Paulo
BEGIN:STANDARD
TZOFFSETFROM:-0300
TZOFFSETTO:-0300
TZNAME:-03
DTSTART:20250101T000000
END:STANDARD
END:VTIMEZONE
BEGIN:VEVENT
DTSTART;TZID=America/Sao_Paulo:20260422T090000
DTEND;TZID=America/Sao_Paulo:20260424T180000
DTSTAMP:20260422T195419
CREATED:20260422T120136Z
LAST-MODIFIED:20260422T120136Z
UID:101383-1776848400-1777053600@manutencao.net
SUMMARY:ABIMAQ abre curso para capacitar gestores em segurança de máquinas e atender exigências da fiscalização trabalhista
DESCRIPTION:A ABIMAQ (Associação Brasileira da Indústria de Máquinas e Equipamentos) promove\, nos dias 22\, 23 e 24 de abril (quarta\, quinta e sexta-feira)\, o curso online Especialistas – Introdução à Apreciação de Riscos\, formação prática voltada a gestores que precisam estruturar a segurança de máquinas e equipamentos e se antecipar às exigências legais da NR-12. \nA capacitação aborda a apreciação de riscos\, documento que\, em uma visita de fiscalização do trabalho\, costuma estar entre os primeiros itens solicitados pelos auditores fiscais. \nO conteúdo inclui gestão da NR-12\, análise de risco pela ABNT NBR ISO 12100 e aplicação prática de ferramentas técnicas\, preparando equipes de engenharia\, operação e manutenção para trabalhar com conformidade normativa e proteção do trabalhador. \nO treinamento será ministrado por Sidney Peinado\, Fabio Aguiar e Marcelo Del Vecchio\, três dos nomes mais experientes do país em automação\, segurança de máquinas\, formação de AFTs\, implementação da NR-12 e apoio técnico a entidades industriais\, somando mais de 100 anos de atuação em segurança industrial. \nServiço: Curso – Especialistas – Introdução à Apreciação de Riscos:\nData: 22\, 23 e 24 de abril (quarta\, quinta e sexta-feira) \nHorário: 09h às 18h \nCarga horária: 24h \nLocal: Online\, via plataforma Zoom \nValor: R$ 1.860\,00 (associados ABIMAQ); R$ 2.730\,00 (não associados). Valores incluem material de apoio e certificação digital. \nMais informações: (11) 5582-6321/6326 – WhatsApp: (11) 94526-8280 ou https://abimaq.org.br/cursos/1601/especialistas-introducao-a-apreciacao-de-riscos-sendo-este-o-primeiro-item-requisitado-pelo-afts-auditores-fiscais-do-trabalho-durante-a-uma-visita-formativo \nQuer ficar por dentro de outros eventos Clique aqui
URL:https://manutencao.net/evento/abimaq-abre-curso-para-capacitar-gestores-em-seguranca-de-maquinas-e-atender-exigencias-da-fiscalizacao-trabalhista/
LOCATION:Online
CATEGORIES:Cursos
ATTACH;FMTTYPE=image/webp:https://manutencao.net/wp-content/uploads/2026/04/ABIMAQ-abre-curso-para-capacitar-gestores-em-seguranca-de-maquinas-e-atender-exigencias-da-fiscalizacao-trabalhista.webp
END:VEVENT
END:VCALENDAR