BEGIN:VCALENDAR
VERSION:2.0
PRODID:-//Manutenção.net - ECPv6.15.16//NONSGML v1.0//EN
CALSCALE:GREGORIAN
METHOD:PUBLISH
X-WR-CALNAME:Manutenção.net
X-ORIGINAL-URL:https://manutencao.net
X-WR-CALDESC:Eventos para Manutenção.net
REFRESH-INTERVAL;VALUE=DURATION:PT1H
X-Robots-Tag:noindex
X-PUBLISHED-TTL:PT1H
BEGIN:VTIMEZONE
TZID:America/Sao_Paulo
BEGIN:STANDARD
TZOFFSETFROM:-0300
TZOFFSETTO:-0300
TZNAME:-03
DTSTART:20240101T000000
END:STANDARD
END:VTIMEZONE
BEGIN:VEVENT
DTSTART;VALUE=DATE:20251006
DTEND;VALUE=DATE:20251011
DTSTAMP:20260422T004010
CREATED:20250930T125834Z
LAST-MODIFIED:20250930T125834Z
UID:100134-1759708800-1760140799@manutencao.net
SUMMARY:CIRS Búzios 2025 terá debates sobre gestão estratégica\, regulamentação e sustentabilidade econômica do saneamento
DESCRIPTION:Evento conectará governos\, empresas e pesquisadores\, visando fortalecer parcerias e a colaboração entre os agentes\nO Congresso Internacional de Resíduos e Saneamento (CIRS Búzios 2025)\, que está em sua segunda edição\, conectará governos\, empresas e pesquisadores em busca de soluções inovadoras para questões sensíveis nas áreas do saneamento e da gestão de resíduos sólidos. A programação do evento\, marcado para acontecer de 6 a 10 de outubro\, terá painéis com especialistas globais sobre desafios\, tecnologias emergentes e soluções inovadoras para problemas atuais do setor vivenciados nas cidades brasileiras. Haverá ainda apresentação de estudos de caso e pesquisas acadêmicas com o objetivo de compartilhar o que há de mais moderno e na fronteira do conhecimento sobre os assuntos em debate.\n \nEntre os temas do CIRS Búzios 2025\, destacam-se os desafios de governança em busca da uniformidade regulatória do saneamento\, com a discussão de soluções para obtenção de outorgas\, autorizações e licenças ambientais\, em que serão abordadas as principais regulamentações do setor. As concessões da Cedae\, da modelagem à operação\, quatro anos depois; os desafios da drenagem urbana e da universalização do saneamento básico; a gestão de resíduos e o enfrentamento à poluição marinha também são alvos de painéis específicos. Outro tópico importante é o de resíduos e saneamento: os ODS como catalisadores da mudança\, que trata do assunto no contexto das metas globais\, enfatizando o trabalho de organismos internacionais em prol dessa agenda.\n \nCom o tema “Sistemas Resilientes para um Mundo em Transformação”\, a abertura do CIRS Búzios 2025 terá a palestra do presidente da Aegea\, Édison Carlos. A programação também conta com discussões sobre a importância de dados e informações para a gestão estratégica do saneamento; e a sustentabilidade econômica do setor\, levando-se em conta estrutura tarifária\, capacidade de investimentos\, tarifa social\, entre outros aspectos que desafiam esse equilíbrio econômico.\n \nO evento será ainda uma oportunidade para network com líderes empresariais e autoridades governamentais da área. A concepção do CIRS Búzios 2025\, de acordo com Alice Hagge\, gerente de Relações Institucionais da Masterplan\, empresa idealizadora e realizadora do evento\, se deu a partir da demanda dos participantes da primeira edição. “Identificamos que o público sentia a necessidade de conhecer mais sobre o fortalecimento de parcerias e a colaboração entre os diferentes agentes em busca de soluções sustentáveis para os problemas relacionados ao saneamento de forma ampla”\, explica.\n \nConfira a programação completa no link: Link \n  \nSERVIÇO:  \nCIRS Búzios 2025 – 2º Congresso Internacional de Resíduos e Saneamento   \nData: 6 a 10 de outubro  \nLocal: Hotel Atlântico Búzios Convention – Estr. da Usina Velha\, 294 – Armação dos Búzios  \nLink para inscrições: Link  \n  \nSobre o CIRS Búzios 2025:  \nCongresso Internacional de Resíduos e Saneamento\, que será realizado de 6 a 10 de outubro\, em Búzios\, tem como objetivo fomentar o debate sobre os quatro componentes do saneamento básico (água\, esgoto\, drenagem e resíduos); divulgar pesquisas e estudos acadêmicos nessas áreas; apresentar boas práticas nacionais e internacionais do setor; fortalecer a articulação entre instituições atuantes na área ambiental; e criar uma agenda positiva. O CIRS Búzios é realizado pela Masterplan Engenharia Consultiva e Ambiental. Patrocinam o evento: Instituto Aupaba\, Aegea/Prolagos\, BR Marinas\, CAU RJ\, Sanepar.  \n  \nInformações à imprensa:\nInsight Comunicação \nVania Santos – vania.santos@insightnet.com.br / (21) 98187-4127 \nSilvia Brando – silvia.brando@insightnet.com.br / (21) 99896-6654
URL:https://manutencao.net/evento/cirs-buzios-2025-tera-debates-sobre-gestao-estrategica-regulamentacao-e-sustentabilidade-economica-do-saneamento/
LOCATION:Hotel Atlântico Búzios Convention – Estr. da Usina Velha\, 294 – Armação dos Búzios\, Estr. da Usina Velha\, 294 - Village de Búzios\, Armação dos Búzios - RJ\, 28950-255\, Armação dos Búzios\, Rio de Janeiro (RJ)\, 28950-000\, Brazil
CATEGORIES:Congresso,Encontro,Seminário
ATTACH;FMTTYPE=image/webp:https://manutencao.net/wp-content/uploads/2025/09/CIRS-Buzios-2025-tera-debates-sobre-gestao-estrategica-regulamentacao-e-sustentabilidade-economica-do-saneamento.webp
END:VEVENT
BEGIN:VEVENT
DTSTART;TZID=America/Sao_Paulo:20251009T090000
DTEND;TZID=America/Sao_Paulo:20251009T180000
DTSTAMP:20260422T004010
CREATED:20251010T131236Z
LAST-MODIFIED:20251010T131236Z
UID:100228-1760000400-1760032800@manutencao.net
SUMMARY:Ministério das Comunicações promove evento internacional sobre data centers e cabos submarinos nesta quinta-feira (9)
DESCRIPTION:Especialistas internacionais e líderes do setor debatem conectividade\, infraestrutura digital e o futuro da economia digital no Brasil\nO Ministério das Comunicações realiza nesta quinta-feira (9)\, em Brasília (DF)\, o Workshop Internacional de Cabos Submarinos e Data Centers. O evento contará com a presença do ministro das Comunicações\, Frederico de Siqueira Filho\, e do presidente da Anatel\, Carlos Baigorri\, e reunirá representantes do governo federal\, grandes empresas e especialistas internacionais para debater caminhos\, desafios e políticas públicas voltadas ao desenvolvimento dessas duas áreas estratégicas para o Brasil.\n \nO workshop será realizado em formato híbrido\, das 9h às 18h\, no auditório do Ministério das Comunicações\, com até 150 participantes presenciais. Entre os convidados internacionais e especialistas do setor estão nomes de destaque como Sonia Jorge\, fundadora e diretora executiva da Global Digital Inclusion Partnership (GDIP); Luis Guillermo Alarcón\, do Banco Interamericano de Desenvolvimento (BID); e Robert Clark\, representante da Meta.\n \nA programação inclui painéis e mesas-redondas que abordarão temas como as complexidades técnicas\, econômicas e geopolíticas na implantação de cabos submarinos; estratégias para promover acesso aberto e diversidade por meio da segurança regulatória; diretrizes para expansão de Data Centers no Brasil; e infraestrutura necessária para o armazenamento e processamento de dados essenciais à economia digital.\n \nSERVIÇO\n\nEvento: Workshop Internacional de Cabos Submarinos e Data Centers.\nData: 9 de outubro de 2025 (quinta-feira)\nHorário: 9h às 18h\nLocal: Auditório do Ministério das Comunicações\nEndereço: Esplanada dos Ministérios – Bloco R \n\nAscom MCom\nAssessoria Especial de Comunicação Social\nMinistério das Comunicações\nimprensa@mcom.gov.br • (61) 2027.6086 ou (61) 2027.6628 \nSIGA O MCOM NAS REDES: @mincomunicacoes
URL:https://manutencao.net/evento/ministerio-das-comunicacoes-promove-evento-internacional-sobre-data-centers-e-cabos-submarinos-nesta-quinta-feira-9/
LOCATION:Auditório do Ministério das Comunicações\, Esplanada dos Ministérios - Bloco R\, Brasília\, Distrito Federal (DF\, 70050-000\, Brazil
CATEGORIES:Encontro,Palestras,Seminário
ATTACH;FMTTYPE=image/webp:https://manutencao.net/wp-content/uploads/2025/10/Evento-sobre-Data-Centers-e-Cabos-Submarinos.webp
END:VEVENT
BEGIN:VEVENT
DTSTART;TZID=America/Sao_Paulo:20251017T082000
DTEND;TZID=America/Sao_Paulo:20251017T093000
DTSTAMP:20260422T004010
CREATED:20251010T125537Z
LAST-MODIFIED:20251010T125537Z
UID:100223-1760689200-1760693400@manutencao.net
SUMMARY:Dia do Eletricista
DESCRIPTION:  Segundo dados da ABRACOPEL\, somente em 2024 foram registrados 136 acidentes de origem elétrica e 83 mortes envolvendo profissionais eletricistas no Brasil. Esses números mostram a vulnerabilidade da categoria e a necessidade urgente de maior qualificação\, segurança e reconhecimento da profissão. \n  Estima-se\, entretanto\, que esses números representem apenas 48% dos casos reais registrados no Brasil. Com base em cálculos mais aproximados\, temos em torno 272 acidentes com 166 mortes. Além disso\, ainda não estão contabilizados os profissionais de “última hora”\, que se aventuram em trabalhos elétricos sem saber dos perigos da eletricidade e sem o devido preparo como: pedreiros\, pintores\, telhadistas\, antenistas\, entre outros. \n  Com esse alerta\, a ABRAPEEL – Associação Brasileira de Profissionais Eletricistas e Eletrônicos realiza no próximo 17 de outubro de 2025\, o Dia do Eletricista\, um evento nacional de capacitação\, networking e valorização desses trabalhadores fundamentais para a sociedade. \n  O encontro será no Senai Brás\, em São Paulo\, e reunirá cerca de 350 profissionais\, especialistas\, empresas e influenciadores do setor\, promovendo palestras\, exposições\, sorteios e muito networking. \n  Para o diretor-executivo da ABRAPEEL\, Orestes Rodrigues Junior\, a iniciativa reafirma o propósito da entidade: “Nossa associação trabalha em um tripé: capacitar\, reconhecer e valorizar o profissional eletricista e eletrônico. Capacitar para as novas tecnologias\, pois dentro das ocupações no MTE – Ministério do Trabalho e Emprego\, existem mais de 200 áreas onde o profissional eletricista e eletrônico pode se destacar\, não ficando apenas no habitual. Precisamos avançar para que a profissão seja de fato reconhecida\, pois hoje ela é tida apenas como ocupação\, o que é desconhecido pela grande parte dos profissionais e\, quando falamos em valorizar\, é dar meios para que ele de fato avance na carreira\, com apoio em diversos setores\, como: a saúde mental\, incluindo a NR 01\, segurança\, investimentos e bem-estar\, inclusive para que estes trabalhadores estejam no centro das políticas públicas e empresariais”\, afirma. \n  O evento contará com o apoio institucional do SENAI\, ELETRICISTAS DO BEM\, ABRACOPEL\, SINDICEL e QUALIFIO\, além do investimento de empresas líderes como: Elgin\, Crossfox Elétrica\, Intelbras\, Metaltex\, Foxlux\, PE Tubos\, Euro Tubos\, Real Perfil\, Zathura Barramentos\, Tipo Marketing Industrial\, Westcon\, Ilumi Materiais Elétricos\, Pulse Automação Industrial\, Raybym Serv\, Fluke\, Mi Omega\, Leonidas Borges Elétrica\, Eletricidade On Line e CRT SP. \nABRAPEEL\n   A ABRAPEEL nasceu em 2009\, inicialmente como ABRAEL\, destinada apenas aos eletricistas. Em 2016\, passou a incluir também os profissionais eletrônicos\, adotando seu nome atual. Apesar dos desafios – inclusive os impactos da pandemia – a entidade ganhou força a partir de 2023\, com nova diretoria\, projetos de modernização e presença digital. \n  Em 2024\, a associação passou a integrar o programa Encontro do Eletricista Consciente e Seguro\, da Abracopel\, percorrendo capitais brasileiras e aproximando milhares de profissionais de novas tecnologias\, normas e boas práticas de segurança. \n  No mesmo ano\, realizou seu primeiro grande evento oficial no Senai Brás\, reunindo mais de 200 participantes. Desde então\, consolidou parcerias estratégicas para 2025 com empresas como Elgin\, Intelbras e Crossfox Elétrica\, que acreditaram em sua missão de capacitar\, reconhecer e valorizar os trabalhadores do setor\, sendo seus investidores master. \nServiço – Dia do Eletricista 2025\nData: 17 de outubro de 2025 \nLocal: Senai Brás – Rua Monsenhor Andrade\, 298\, Brás\, São Paulo – SP \nCafé especial: 08h às 08h45 para os palestrantes \nInscrições gratuitas até 10/10 pelo site (vagas limitadas) \nSite: LINK \nCredenciamento: 08h20 às 09h30 \nPalestras em dois momentos: 09h às 11h e 12h20 às 14h20. \nExposição e confraternização: 13h às 16h. \nSorteios e encerramento: 16h15 às 17h \nImagens do evento de 2024: LINK\n \nOrestes Rodrigues Junior \nDiretor-executivo da Abrapeel \ndiretoria@abrapeel.com \n11 98480-7630 \nInformações para imprensa:\nMD assessoria & relacionamento \nVerônica Dalle – veronica@mdassessoriacom.com.br (11) 99656 6465 \nMárcia Dadamos – marcia@mdassessoriacom.com.br \nquer ver mais eventos? Clique aqui
URL:https://manutencao.net/evento/dia-do-eletricista/
LOCATION:São Paulo\, R. Monsenhor Andrade\, 298 – Brás\, São Paulo – SP\, Brasil\, R. Monsenhor Andrade\, 298 – Brás\, São Paulo – SP\, Brasil.\, São Paulo.\, São Paulo (SP)\, 03008-000\, Brazil
CATEGORIES:Encontro
ATTACH;FMTTYPE=image/webp:https://manutencao.net/wp-content/uploads/2025/10/Dia-do-Eletricista-Poster-.webp
END:VEVENT
END:VCALENDAR