BEGIN:VCALENDAR
VERSION:2.0
PRODID:-//Manutenção.net - ECPv6.15.16//NONSGML v1.0//EN
CALSCALE:GREGORIAN
METHOD:PUBLISH
X-ORIGINAL-URL:https://manutencao.net
X-WR-CALDESC:Eventos para Manutenção.net
REFRESH-INTERVAL;VALUE=DURATION:PT1H
X-Robots-Tag:noindex
X-PUBLISHED-TTL:PT1H
BEGIN:VTIMEZONE
TZID:America/Sao_Paulo
BEGIN:STANDARD
TZOFFSETFROM:-0300
TZOFFSETTO:-0300
TZNAME:-03
DTSTART:20240101T000000
END:STANDARD
END:VTIMEZONE
BEGIN:VEVENT
DTSTART;TZID=America/Sao_Paulo:20250814T073000
DTEND;TZID=America/Sao_Paulo:20250814T183000
DTSTAMP:20260423T123650
CREATED:20250806T144659Z
LAST-MODIFIED:20250806T144659Z
UID:99865-1755156600-1755196200@manutencao.net
SUMMARY:SENIPA MANAUS - 2025 - CTQFF
DESCRIPTION:O SENIPA MANAUS 2025 – Seminário Nacional de Corrosão\, Integridade e Proteção Anticorrosiva tem como objetivo apresentar soluções práticas para os problemas que envolvem as atividades de manutenção\, integridade de ativos e proteção anticorrosiva das empresas \nINFORMAÇÕES GERAIS \nEVENTO SENIPA MANAUS 2025 – Seminário Nacional de Corrosão\, Integridade e Proteção Anticorrosiva \nDATA 14 DE AGOSTO DE 2025 \nHORÁRIO 7h30 ÀS 18h30 LOCAL Centro de Convenções – Manaus Plaza shopping \nENDEREÇO Av. Djalma Batista\, 2100 – Parque Dez \nSite do evento \nClique aqui para ver outros eventos \n 
URL:https://manutencao.net/evento/senipa-manaus-2025-ctqff/
LOCATION:Manaus Plaza Shopping & Centro de Convenções\, Av. Djalma Batista\, 2100\, Chapada\, Manaus\, AM\, 69050-010\, Brazil
CATEGORIES:Seminário
ATTACH;FMTTYPE=image/webp:https://manutencao.net/wp-content/uploads/2025/08/Image-Destaque.webp
END:VEVENT
END:VCALENDAR