BEGIN:VCALENDAR
VERSION:2.0
PRODID:-//Manutenção.net - ECPv6.15.16//NONSGML v1.0//EN
CALSCALE:GREGORIAN
METHOD:PUBLISH
X-WR-CALNAME:Manutenção.net
X-ORIGINAL-URL:https://manutencao.net
X-WR-CALDESC:Eventos para Manutenção.net
REFRESH-INTERVAL;VALUE=DURATION:PT1H
X-Robots-Tag:noindex
X-PUBLISHED-TTL:PT1H
BEGIN:VTIMEZONE
TZID:America/Sao_Paulo
BEGIN:STANDARD
TZOFFSETFROM:-0300
TZOFFSETTO:-0300
TZNAME:-03
DTSTART:20240101T000000
END:STANDARD
END:VTIMEZONE
BEGIN:VEVENT
DTSTART;TZID=America/Sao_Paulo:20250805T090000
DTEND;TZID=America/Sao_Paulo:20250805T130000
DTSTAMP:20260423T123319
CREATED:20250724T192232Z
LAST-MODIFIED:20250725T155937Z
UID:99808-1754384400-1754398800@manutencao.net
SUMMARY:Painel “Água\, Saneamento e Clima” propõe articulação entre setores para soluções hídricas sustentáveis na SP Climate Week’25
DESCRIPTION: Evento gratuito da Fundação Energia e Saneamento (FES) será realizado no Sesc Bom Retiro\, no dia 5 de agosto\, e reunirá representantes do setor público\, privado e do terceiro setor em duas mesas de debate \nA São Paulo Climate Week (SPCW) 2025 mobiliza a cidade em torno dos principais desafios e soluções da crise climática global. Entre as atividades oficiais da programação\, o painel “Água\, Saneamento e Clima” será um dos destaques do dia 5 de agosto\, das 9h às 13h\, no Sesc Bom Retiro\, promovido pela Fundação Energia e Saneamento (FES) com curadoria compartilhada com especialistas do setor. Inscrições abertas pelo link: https://bit.ly/inscricao0508. \nO encontro reunirá especialistas\, gestores públicos\, empresas\, instituições acadêmicas e organizações da sociedade civil para um debate qualificado sobre os rumos da agenda hídrica no Brasil\, seus desafios estruturais e as oportunidades de articulação entre políticas públicas\, práticas privadas e engajamento social. \n“Participar da SPCW 2025 reforça o compromisso da Fundação Energia e Saneamento com a promoção de debates qualificados e com a construção de pontes entre diferentes setores em torno da agenda da água. Em um contexto de crise climática e escassez hídrica\, é urgente olhar para a água e o saneamento como pilares da resiliência da vida no planeta. Acreditamos que soluções sustentáveis e integradas só serão possíveis com diálogo\, colaboração e o engajamento de todos os atores sociais”\, comenta Claudinéli Moreira Ramos\, presidente do Conselho de Administração da FES. \nEm tempos de escassez hídrica\, mudanças climáticas intensas e desafios de governança urbana\, o painel propõe situar a água como eixo estratégico da resiliência climática nas cidades. \n Do diagnóstico à ação: dois debates estratégicos \nA programação do evento é dividida em duas mesas temáticas\, que abordam tanto os marcos regulatórios quanto iniciativas práticas que já vêm gerando impacto positivo em diferentes esferas. \nA primeira mesa discutirá o estágio atual e as perspectivas de implementação da principal agenda nacional do saneamento. Cinco nos após a criação do novo Marco Legal do Saneamento no Brasil\, que estabeleceu metas muito importantes de universalização até 2033\, o painel reúne representantes de instituições-chave para discutir onde avançamos\, o que precisa ser corrigido e como garantir que o acesso à água e ao esgotamento sanitário se torne uma realidade para toda a população brasileira. \nParticipam da mesa: Abcon Sindcon\, Agência Nacional de Águas e Saneamento Básico (ANA)\, Instituto Trata Brasil e Sabesp\, e a mediação será feita pela Fundação Energia e Saneamento (FES). \nNa sequência\, a segunda mesa\, que conta com a co-curadoria da Quintessa\, abordará contribuições mútuas para a agenda da segurança hídrica no país. Como governos\, empresas e organizações podem atuar juntos para garantir água em quantidade e qualidade para as atuais e futuras gerações? Diferentes visões e experiências serão reunidas para compartilhar boas práticas\, identificar sinergias e avançar na construção de soluções integradas e duradouras. \nParticipam da rodada o Grupo Heineken\, a SP Águas – Agência de Águas do Estado de São Paulo – e The Nature Conservancy (TNC Brasil)\, com mediação da Quintessa. \nServiço \nPainel: Água\, Saneamento e Clima – São Paulo Climate Week’25 \nData: terça-feira\, 5 de agosto de 2025 \nHorário: 9h às 13h \nLocal: Sesc Bom Retiro – Alameda Nothmann\, 185\, Campos Elíseos – São Paulo/SP \nEvento gratuito \nInscrições abertas pelo link: https://bit.ly/inscricao0508 \nSobre a Fundação Energia e Saneamento \nInstituída em 1998 para preservar\, pesquisar e divulgar o patrimônio histórico dos setores que lhe deram origem\, a Fundação Energia e Saneamento (FES) iniciou o reposicionamento de suas ações a partir de 2024\, visando contribuir\, como  Organização Social de Cultura (OS) e Instituição de Ciência e Tecnologia (ICT)\, cada vez mais estrategicamente para a construção de sociedades sustentáveis\, a partir da  preservação\, pesquisa e difusão do patrimônio histórico-cultural dos setores de energia e saneamento; de programas culturais\, educativos e socioambientais e da pesquisa e desenvolvimento de soluções inovadoras. A FES possui unidades em sete municípios paulistas: a rede de Museus da Energia de São Paulo\, Itu e Salesópolis\, as Usinas-Parques (pequenas centrais de geração de energia) em Brotas\, Rio Claro e Santa Rita do Passa Quatro e o Edifício do Acervo Histórico em Jundiaí\, que abriga um acervo composto por mais de 260 mil fotografias\, 10 mil plantas e desenhos técnicos\, uma reserva técnica com mais de quatro mil objetos museológicos e 1.600 metros lineares de documentos arquivísticos\, além de uma biblioteca especializada em energia com mais de 50 mil volumes. \nSite: https://www.energiaesaneamento.org.br/ \nInstagram: @museudaenergia  \nFacebook: Museu da Energia \nLinkedIn: Fundação Energia e Saneamento \nYouTube: Museu da Energia \nSobre a SPCW 2025\nA São Paulo Climate Week 2025 é uma plataforma colaborativa que reúne líderes\, organizações\, comunidades e cidadãos em torno da construção de soluções climáticas para o Brasil e o mundo. Em sua 2ª edição\, o evento promove\, em São Paulo\, uma semana de ações\, debates e conexões sobre a emergência climática e a transformação sustentável. \nInspirado por movimentos globais\, celebra a diversidade de vozes e práticas que surgem localmente\, para tornar São Paulo referência em inovação climática\, resiliência urbana e transição justa\, mobilizando recursos humanos\, financeiros e intelectuais para a sustentabilidade nos grandes centros urbanos. \nSite: www.spclimateweek.com.br\nInstagram: @spclimateweek
URL:https://manutencao.net/evento/painel-agua-saneamento-e-clima-propoe-articulacao-entre-setores-para-solucoes-hidricas-sustentaveis-na-sp-climate-week25/
LOCATION:Sesc Bom Retiro – Alameda Nothmann\, 185\, Campos Elíseos – São Paulo/SP\, Alameda Nothmann\, 185 - Campos Elíseos\, São Paulo - SP\, 01216-000\, São Paulo\, SP\, 01216-000\, Brazil
CATEGORIES:Seminário
ATTACH;FMTTYPE=image/webp:https://manutencao.net/wp-content/uploads/2025/07/Manutencao-net-Painel-Agua-Saneamento-e-Clima-propoe-articulacao-entre-setores-para-solucoes-hidricas-sustentaveis-na-SP-Climate-Week25.webp
ORGANIZER;CN="Funda%C3%A7%C3%A3o Energia e Saneamento (FES)":MAILTO:faleconosco@energiaesaneamento.org.br
END:VEVENT
END:VCALENDAR