BEGIN:VCALENDAR
VERSION:2.0
PRODID:-//Manutenção.net - ECPv6.15.16//NONSGML v1.0//EN
CALSCALE:GREGORIAN
METHOD:PUBLISH
X-ORIGINAL-URL:https://manutencao.net
X-WR-CALDESC:Eventos para Manutenção.net
REFRESH-INTERVAL;VALUE=DURATION:PT1H
X-Robots-Tag:noindex
X-PUBLISHED-TTL:PT1H
BEGIN:VTIMEZONE
TZID:America/Sao_Paulo
BEGIN:STANDARD
TZOFFSETFROM:-0300
TZOFFSETTO:-0300
TZNAME:-03
DTSTART:20240101T000000
END:STANDARD
END:VTIMEZONE
BEGIN:VEVENT
DTSTART;TZID=America/Sao_Paulo:20250602T100000
DTEND;TZID=America/Sao_Paulo:20250603T173000
DTSTAMP:20260425T092403
CREATED:20250521T211207Z
LAST-MODIFIED:20250521T211207Z
UID:99527-1748858400-1748971800@manutencao.net
SUMMARY:Fórum da Engenharia Nacional será realizado nos dias 02 e 03 de junho de 2025
DESCRIPTION:Temos o prazer em convidá-lo para a Abertura solene da 1ª Reunião Anual do Fórum da Engenharia Nacional – Engenharia para o desenvolvimento e a soberania\, que acontecerá no próximo dia 02 de junho de 2025\, às 9\,30h no Clube de Engenharia do Brasil\, à Av. Rio Branco\, 124 – 25ºandar – Centro – Rio de Janeiro- RJ. \nO Fórum de Engenharia Nacional\, de caráter permanente\, foi criado para unir e reunir entidades\, lideranças e profissionais que atuam nas diversas áreas da engenharia\, arquitetura\, geologia e agronomia brasileiras para empreender um grande diálogo social de modo a acompanhar\, debater\, participar e contribuir para o desenvolvimento e a soberania nacional\, pautadas pela justiça social e a sustentabilidade.\nNesta 1ª Reunião Anual com duração de dois dias\, que terá continuidade por uma série de atividades neste ano e vindouros\, estaremos tratando dos seguintes temas\, nos quais contaremos em 6 mesas com contribuições de 30 convidados\, experientes representantes de entidades representativas sindicais e empresariais\, pesquisadores\, gestores públicos e privados assim como da participação de público convidado presencial e virtual: \n– Bases para o desenvolvimento nacional e soberano; \n– Neoindústria\, financiamento\, IA\, ciência e engenharia na inovação; \n– Infraestrutura\, desenvolvimento regional e cidades; \n– Transição climática frente à expansão das fontes energéticas e produção agrícola; \n– Formação profissional\, Lei 5194/66\, geração de empregos e economia solidária; \n– Mobilização da sociedade e a 1ª Conferência Nacional da Engenharia. \nInformações detalhadas da construção do Fórum da Engenharia Nacional\, bem como da histórica 1ª Reunião Anual nos dias 02 e 03 de junho estão disponíveis em www.forumengenharia.com.br.
URL:https://manutencao.net/evento/forum-da-engenharia-nacional-sera-realizado-nos-dias-02-e-03-de-junho-de-2025/
LOCATION:Clube de Engenharia do Brasil\, Av. Rio Branco\, 124\, Rio de Janeiro\, RJ\, 20040-001\, Brazil
CATEGORIES:Congresso
ATTACH;FMTTYPE=image/webp:https://manutencao.net/wp-content/uploads/2025/05/Forum-da-Engenharia-Nacional-sera-realizado-nos-dias-02-e-03-de-junho-de-2025.webp
END:VEVENT
END:VCALENDAR