BEGIN:VCALENDAR
VERSION:2.0
PRODID:-//Manutenção.net - ECPv6.15.16//NONSGML v1.0//EN
CALSCALE:GREGORIAN
METHOD:PUBLISH
X-ORIGINAL-URL:https://manutencao.net
X-WR-CALDESC:Eventos para Manutenção.net
REFRESH-INTERVAL;VALUE=DURATION:PT1H
X-Robots-Tag:noindex
X-PUBLISHED-TTL:PT1H
BEGIN:VTIMEZONE
TZID:America/Sao_Paulo
BEGIN:STANDARD
TZOFFSETFROM:-0300
TZOFFSETTO:-0300
TZNAME:-03
DTSTART:20240101T000000
END:STANDARD
END:VTIMEZONE
BEGIN:VEVENT
DTSTART;TZID=America/Sao_Paulo:20250519T140000
DTEND;TZID=America/Sao_Paulo:20250520T180000
DTSTAMP:20260426T001011
CREATED:20250514T014902Z
LAST-MODIFIED:20250514T014902Z
UID:99468-1747663200-1747764000@manutencao.net
SUMMARY:ABIMAQ tem inscrições abertas para curso de liderança 5.0
DESCRIPTION:A ABIMAQ (Associação Brasileira da Indústria de Máquinas e Equipamentos) realiza\, nos dias 19 e 20 de maio (segunda e terça-feira)\, online\, via plataforma zoom\, curso voltado a profissionais que procuram se capacitar e desenvolver metodologias e competências de gerenciamento e autoliderança esperadas pelo mercado de trabalho. \nMinistrado por Marcelo Salvo\, especialista em comportamento humano\, gestão de pessoas\, comunicação e oratória\, o curso Liderança do Futuro 5.0 – Conectando\, Estratégias\, Tecnologia\, Processos e Pessoas\, terá como enfoque os seguintes conteúdos: \n– Autoconhecimento – teste de personalidade; \n– SWOT; \n– Atenção Plena; \n– Inteligência emocional; \n– Estilos de liderança; \n– Mudança de Mindset; \n– As 3 habilidades 5.0; \n– Gestão de mudanças; \n– Concorrência; \n– Comunicação assertiva; \n– Escuta ativa; \n– Empatia; \n– Conflitos e confrontos; \n– Gestão do tempo e produtividade; \n– Planejamento; \n– Feedback com comunicação não violenta. \nServiço: Curso – Liderança do Futuro 5.0: \nData: 19 e 20 de maio (segunda e terça-feira) \nHorário: 14h às 18h \nCarga horária: 8h \nLocal: Online\, via plataforma zoom \nValor: R$ 450\,00 (associados ABIMAQ); R$ 680\,00 (não associados). Valores incluem material de apoio e certificação digital. \nMais informações: (11) 5582-6321/6326 – WhatsApp: (11) 94526-8280 ou https://abimaq.org.br/cursos/918/lideranca-do-futuro-50-conectando-estrategias-tecnologia-processos-e-pessoas
URL:https://manutencao.net/evento/abimaq-tem-inscricoes-abertas-para-curso-de-lideranca-5-0/
LOCATION:Online
CATEGORIES:Cursos
ATTACH;FMTTYPE=image/webp:https://manutencao.net/wp-content/uploads/2025/05/ABIMAQ-tem-inscricoes-abertas-para-curso-de-lideranca-5.0.webp
END:VEVENT
BEGIN:VEVENT
DTSTART;TZID=America/Sao_Paulo:20250520T080000
DTEND;TZID=America/Sao_Paulo:20250521T180000
DTSTAMP:20260426T001011
CREATED:20250514T020132Z
LAST-MODIFIED:20250514T020132Z
UID:99471-1747728000-1747850400@manutencao.net
SUMMARY:GRT Experience 2025 deve reunir mais de 500 profissionais em SP para debater o futuro da gestão de terceiros
DESCRIPTION:São Paulo\, maio de 2025 – A gestão de terceiros tem ganhado cada vez mais protagonismo nas estratégias corporativas e\, em 2025\, o tema volta ao centro dos debates no GRT Experience. O evento\, que se consolidou como o maior da América Latina voltado à área\, será realizado nos dias 20 e 21 de maio\, no Teatro Frei Caneca\, em São Paulo. Em sua terceira edição\, o encontro deve reunir mais de 500 profissionais de empresas de todo o país para discutir tendências\, desafios e soluções que estão redefinindo a relação entre contratantes e fornecedores. \nCriado em 2023 com o objetivo de promover uma imersão técnica e estratégica sobre os principais pontos de atenção da gestão de terceiros\, o GRT Experience cresce a cada ano. A edição de 2024 contou com mais de 470 participantes e um público altamente qualificado\, incluindo especialistas de áreas como compliance\, jurídico\, compras\, contratos\, auditoria\, RH\, segurança do trabalho e suprimentos. \nA edição deste ano trará painéis com líderes de empresas como LATAM Airlines\, Bradesco\,Vittude\, Amaggi e Suzano\, que compartilharão boas práticas\, cases reais e inovações aplicadas ao dia a dia corporativo. A programação também contempla debates sobre inteligência artificial na terceirização\, automatização de processos\, compliance fiscal e trabalhista\, e os impactos regulatórios da nova NR-1\, norma que entra em vigor ainda este semestre\, abordando as questões de saúde mental dentro da cadeia de suprimentos. \n“A cada edição\, o GRT Experience mostra que a gestão de terceiros e fornecedores não é mais um tema periférico. Vai além da pauta burocrática\, trata-se de um pilar estratégico para empresas que buscam crescer com eficiência\, segurança e\, principalmente\, de forma sustentável”\, afirma Bruno Santos\, sócio da Bernhoeft e idealizador do evento. \nPara Almir Rocha\, também sócio da Bernhoeft\, o encontro fortalece uma comunidade de especialistas em expansão: “É mais do que um evento\, é uma construção coletiva. Reunimos profissionais que desejam aprimorar os processos internos de suas empresas\, mas vai além disso\, eles vivenciam a oportunidade de trocar experiências com outros profissionais que também conhecem as dores do setor. Na prática\, são dois dias de networking entre pessoas que buscam impulsionar esse mercado no Brasil”. \nServiço – GRT Experience 2025\nData: 20 e 21 de maio de 2025\nLocal: Teatro Frei Caneca – São Paulo/SP\nEndereço: Rua Frei Caneca\, 569 – 7º andar – Consolação \nInscrições (3º lote) e programação completa: Clique\nImagens do evento em 2024 \nSobre a Bernhoeft\nFundada em 1996 por Luiz Carlos Bernhoeft Junior\, a Bernhoeft é uma referência nacional em consultoria empresarial\, especializada em Gestão de Risco com Terceiros\, Cálculos Judiciais\, Soluções em RH e Consultoria e Terceirização Contábil e Tributária. Com mais de 800 profissionais altamente qualificados e escritórios em São Paulo\, São José dos Campos\, Recife\, Olinda e Natal\, a Bernhoeft oferece soluções inovadoras e eficientes para empresas de diversos setores. Entre seus clientes notáveis estão grandes corporações como Votorantim\, Rumo\, Itaú\, Amazon e Embraer\, destacando-se em setores como comércio\, indústria e serviços financeiros. Pioneira em Gestão de Riscos com Terceiros no Brasil\, a empresa também é reconhecida pelo seu compromisso com a responsabilidade social através da iniciativa BernCidadã. Para mais informações\, visite www.bernhoeft.com.br.
URL:https://manutencao.net/evento/grt-experience-2025-deve-reunir-mais-de-500-profissionais-em-sp-para-debater-o-futuro-da-gestao-de-terceiros/
LOCATION:Teatro Frei Caneca – São Paulo\, R. Frei Caneca\, 569 - Consolação\, São Paulo\, SP\, 01307-001\, Brazil
CATEGORIES:Congresso
END:VEVENT
END:VCALENDAR